BEGIN:VCALENDAR
VERSION:2.0
PRODID:-//Shreebankebiharijidhambordi - ECPv6.15.0.1//NONSGML v1.0//EN
CALSCALE:GREGORIAN
METHOD:PUBLISH
X-ORIGINAL-URL:https://shreebankebiharijidhambordi.com
X-WR-CALDESC:Events for Shreebankebiharijidhambordi
REFRESH-INTERVAL;VALUE=DURATION:PT1H
X-Robots-Tag:noindex
X-PUBLISHED-TTL:PT1H
BEGIN:VTIMEZONE
TZID:UTC
BEGIN:STANDARD
TZOFFSETFROM:+0000
TZOFFSETTO:+0000
TZNAME:UTC
DTSTART:20250101T000000
END:STANDARD
END:VTIMEZONE
BEGIN:VEVENT
DTSTART;TZID=UTC:20251226T080000
DTEND;TZID=UTC:20260107T170000
DTSTAMP:20260420T031417
CREATED:20250828T064920Z
LAST-MODIFIED:20250830T120535Z
UID:24516-1766736000-1767805200@shreebankebiharijidhambordi.com
SUMMARY:ચાલો ચાલો  શક્તિપીઠ માં જવલાદેવી ના ખોળે દિવ્ય ભજન સત્સંગ  સાથે સાથે આજુબાજુમાં બીજી શક્તિપીઠ ના દર્શન વૈષ્ણોદેવી અમૃતસર પંજાબ વાઘબોર્ડર બીજા યાત્રાના સ્થાનો
DESCRIPTION:તારીખ : 26/12/2025\n(દિવસ -13) રહેવા +જમવા +બસ +એસી રેલવે ટિકિટ સાથે
URL:https://shreebankebiharijidhambordi.com/events/%e0%aa%9a%e0%aa%be%e0%aa%b2%e0%ab%8b-%e0%aa%9a%e0%aa%be%e0%aa%b2%e0%ab%8b-%e0%aa%b6%e0%aa%95%e0%ab%8d%e0%aa%a4%e0%aa%bf%e0%aa%aa%e0%ab%80%e0%aa%a0-%e0%aa%ae%e0%aa%be%e0%aa%82-%e0%aa%9c%e0%aa%b5/
ATTACH;FMTTYPE=image/png:https://shreebankebiharijidhambordi.com/wp-content/uploads/2025/08/Event.png
ORGANIZER;CN="Shree Geeta Sagar Maharaj":MAILTO:info@example.com
END:VEVENT
BEGIN:VEVENT
DTSTART;TZID=UTC:20250829T220000
DTEND;TZID=UTC:20250831T133000
DTSTAMP:20260420T031417
CREATED:20250731T065037Z
LAST-MODIFIED:20250830T132621Z
UID:23423-1756504800-1756647000@shreebankebiharijidhambordi.com
SUMMARY:દિવ્ય જન્માષ્ટમી મહોત્સવ એવંમ્ દિવ્ય ભજન સત્સંગ એવમ્ વર્ષમાં એકવાર થતા મંગલા આરતીના દર્શન
DESCRIPTION:તારીખ :- ૧૬/૦૮/૨૦૨૫ શનિવાર \nસત્સંગનો સમય :- રાત્રે ૧૦.૦૦ થી ૦૧.૩૦ કલાકે મંગલા આરતીનો સમય ૧.૪૫ કલાકે \nસ્થળ :- બાંકેબિહારીજી ઘામ\, અલીણા ડાકોર રોડ\, બોરડી
URL:https://shreebankebiharijidhambordi.com/events/%e0%aa%a6%e0%aa%bf%e0%aa%b5%e0%ab%8d%e0%aa%af-%e0%aa%9c%e0%aa%a8%e0%ab%8d%e0%aa%ae%e0%aa%be%e0%aa%b7%e0%ab%8d%e0%aa%9f%e0%aa%ae%e0%ab%80-%e0%aa%ae%e0%aa%b9%e0%ab%8b%e0%aa%a4%e0%ab%8d%e0%aa%b8%e0%aa%b5/
ATTACH;FMTTYPE=image/jpeg:https://shreebankebiharijidhambordi.com/wp-content/uploads/2025/08/banner.jpg
ORGANIZER;CN="Shree Geeta Sagar Maharaj":MAILTO:info@example.com
END:VEVENT
END:VCALENDAR